BEGIN:VCALENDAR
VERSION:2.0
PRODID:-//panhandlepartnership.com//NONSGML kigkonsult.se iCalcreator 2.30.
 10//
CALSCALE:GREGORIAN
METHOD:PUBLISH
UID:593cdcd9-2cf8-487e-95a8-f4874483f2ef
X-WR-CALDESC:This conference is designed for individuals and organizations 
 who work with and on behalf of migrant\, seasonal\, temporary\, or vulnera
 ble agricultural workers and their families. (More information regarding p
 resenters will be given later.)\n
X-WR-RELCALID:4064033d3bef09c11273da34cd3efbda
X-WR-TIMEZONE:America/Denver
BEGIN:VTIMEZONE
TZID:America/Denver
BEGIN:STANDARD
TZNAME:MST
DTSTART:20251102T020000
TZOFFSETFROM:-0600
TZOFFSETTO:-0700
RDATE:20261101T020000
END:STANDARD
BEGIN:DAYLIGHT
TZNAME:MDT
DTSTART:20260308T020000
TZOFFSETFROM:-0700
TZOFFSETTO:-0600
RDATE:20270314T020000
END:DAYLIGHT
END:VTIMEZONE
BEGIN:VEVENT
UID:c76c11d0-ca74-46ee-a42e-22d047e6d207
DTSTAMP:20260422T000559Z
DESCRIPTION:This conference is designed for individuals and organizations w
 ho work with and on behalf of migrant\, seasonal\, temporary\, or vulnerab
 le agricultural workers and their families. (More information regarding pr
 esenters will be given later.)\n
DTSTART;TZID=America/Denver:20260429T040000
DTEND;TZID=America/Denver:20260429T040001
LOCATION:Younes Conference Center South\, 416 Talmadge St\, Kearney\, NE 68
 845 US
SUMMARY:2026 Planting Seeds Conference
END:VEVENT
END:VCALENDAR
