BEGIN:VCALENDAR
VERSION:2.0
PRODID:-//panhandlepartnership.com//NONSGML kigkonsult.se iCalcreator 2.30.
 10//
CALSCALE:GREGORIAN
METHOD:PUBLISH
UID:3f34f02f-2202-42cd-a969-74bc22966116
X-WR-CALDESC:
X-WR-RELCALID:e65a1b955e33994ddd99d9301d1055f2
X-WR-TIMEZONE:America/Denver
BEGIN:VTIMEZONE
TZID:America/Denver
BEGIN:STANDARD
TZNAME:MST
DTSTART:20251102T020000
TZOFFSETFROM:-0600
TZOFFSETTO:-0700
RDATE:20261101T020000
END:STANDARD
BEGIN:DAYLIGHT
TZNAME:MDT
DTSTART:20260308T020000
TZOFFSETFROM:-0700
TZOFFSETTO:-0600
RDATE:20270314T020000
END:DAYLIGHT
END:VTIMEZONE
BEGIN:VEVENT
UID:153ddcc3-20d2-4aed-9339-a12a010446e4
DTSTAMP:20260422T001304Z
DESCRIPTION:
DTSTART;TZID=America/Denver:20260417T090000
DTEND;TZID=America/Denver:20260417T130000
LOCATION:Prairie Winds Community Center\, 428 Main Street\, Bridgeport\, NE
  69336 US
SUMMARY:Panhandle Partnership Membership Meeting
END:VEVENT
END:VCALENDAR
