BEGIN:VCALENDAR
VERSION:2.0
PRODID:-//panhandlepartnership.com//NONSGML kigkonsult.se iCalcreator 2.30.
 10//
CALSCALE:GREGORIAN
METHOD:PUBLISH
UID:f1e7069e-0688-42c2-b9b4-fde762d12e39
X-WR-CALDESC:
X-WR-RELCALID:8eb79621a2bd6784913ee6635fd2ee34
X-WR-TIMEZONE:America/Denver
BEGIN:VTIMEZONE
TZID:America/Denver
BEGIN:STANDARD
TZNAME:MST
DTSTART:20281105T020000
TZOFFSETFROM:-0600
TZOFFSETTO:-0700
RDATE:20291104T020000
END:STANDARD
BEGIN:DAYLIGHT
TZNAME:MDT
DTSTART:20280312T020000
TZOFFSETFROM:-0700
TZOFFSETTO:-0600
RDATE:20290311T020000
RDATE:20300310T020000
END:DAYLIGHT
END:VTIMEZONE
BEGIN:VEVENT
UID:bd270336-1727-476e-8669-f8d9deff90ab
DTSTAMP:20260425T172612Z
DESCRIPTION:
DTSTART;TZID=America/Denver:20290215T100000
DTEND;TZID=America/Denver:20290215T120000
LOCATION:
SUMMARY:Older Youth System of Care
END:VEVENT
END:VCALENDAR
