BEGIN:VCALENDAR
VERSION:2.0
PRODID:-//panhandlepartnership.com//NONSGML kigkonsult.se iCalcreator 2.30.
 10//
CALSCALE:GREGORIAN
METHOD:PUBLISH
UID:160f6c80-5be0-42af-81fc-75e9ba586b88
X-WR-CALDESC:
X-WR-RELCALID:b119f6b7ce1393f7b51b8c466fdc0067
X-WR-TIMEZONE:America/Denver
BEGIN:VTIMEZONE
TZID:America/Denver
BEGIN:STANDARD
TZNAME:MST
DTSTART:20271107T020000
TZOFFSETFROM:-0600
TZOFFSETTO:-0700
RDATE:20281105T020000
END:STANDARD
BEGIN:DAYLIGHT
TZNAME:MDT
DTSTART:20270314T020000
TZOFFSETFROM:-0700
TZOFFSETTO:-0600
RDATE:20280312T020000
RDATE:20290311T020000
END:DAYLIGHT
END:VTIMEZONE
BEGIN:VEVENT
UID:22d41ef3-1d79-40fc-b208-9f11a9fa5430
DTSTAMP:20260424T210213Z
DESCRIPTION:
DTSTART;TZID=America/Denver:20280217T100000
DTEND;TZID=America/Denver:20280217T120000
LOCATION:
SUMMARY:Older Youth System of Care
END:VEVENT
END:VCALENDAR
