BEGIN:VCALENDAR
VERSION:2.0
PRODID:-//panhandlepartnership.com//NONSGML kigkonsult.se iCalcreator 2.30.
 10//
CALSCALE:GREGORIAN
METHOD:PUBLISH
UID:423cc3ac-4c59-499a-8d6a-98e35ef744c6
X-WR-CALDESC:
X-WR-RELCALID:a20b51821c213d66a4dab918cc2bc314
X-WR-TIMEZONE:America/Denver
BEGIN:VTIMEZONE
TZID:America/Denver
BEGIN:STANDARD
TZNAME:MST
DTSTART:20251102T020000
TZOFFSETFROM:-0600
TZOFFSETTO:-0700
RDATE:20261101T020000
RDATE:20271107T020000
END:STANDARD
BEGIN:DAYLIGHT
TZNAME:MDT
DTSTART:20260308T020000
TZOFFSETFROM:-0700
TZOFFSETTO:-0600
RDATE:20270314T020000
END:DAYLIGHT
END:VTIMEZONE
BEGIN:VEVENT
UID:22997728-2399-49a0-be34-1891417440fa
DTSTAMP:20260419T153839Z
DESCRIPTION:
DTSTART;TZID=America/Denver:20260611T080000
DTEND;TZID=America/Denver:20260611T160000
LOCATION:Gering Civic Center\, 1050 M Street\, Gering\, NE 69341 US
SUMMARY:Welcoming Communities Conference
END:VEVENT
END:VCALENDAR
