BEGIN:VCALENDAR
VERSION:2.0
PRODID:-//panhandlepartnership.com//NONSGML kigkonsult.se iCalcreator 2.30.
 10//
CALSCALE:GREGORIAN
METHOD:PUBLISH
UID:7ec1da5d-7936-4b5d-ac6f-1ba1ebd805f9
X-WR-CALDESC:
X-WR-RELCALID:23e0eb87597afa380864c0f9edcf80bd
X-WR-TIMEZONE:America/Denver
BEGIN:VTIMEZONE
TZID:America/Denver
BEGIN:STANDARD
TZNAME:MST
DTSTART:20251102T020000
TZOFFSETFROM:-0600
TZOFFSETTO:-0700
RDATE:20261101T020000
RDATE:20271107T020000
END:STANDARD
BEGIN:DAYLIGHT
TZNAME:MDT
DTSTART:20260308T020000
TZOFFSETFROM:-0700
TZOFFSETTO:-0600
RDATE:20270314T020000
END:DAYLIGHT
END:VTIMEZONE
BEGIN:VEVENT
UID:c1b6b615-f936-4da7-b38c-8d90f62fa83e
DTSTAMP:20260422T191547Z
DESCRIPTION:
DTSTART;TZID=America/Denver:20260519T100000
DTEND;TZID=America/Denver:20260519T163000
LOCATION:Gering Civic Center\, 1050 M St\, Gering\, NE 69341 US
SUMMARY:Motivational Interviewing: Foundations & Skills
END:VEVENT
END:VCALENDAR
