BEGIN:VCALENDAR
VERSION:2.0
PRODID:-//panhandlepartnership.com//NONSGML kigkonsult.se iCalcreator 2.30.
 10//
CALSCALE:GREGORIAN
METHOD:PUBLISH
UID:069554d7-259d-42ee-b690-99a8283afe35
X-WR-CALDESC:
X-WR-RELCALID:9b1c6e81e748783ad69213fbf23a6846
X-WR-TIMEZONE:America/Denver
BEGIN:VTIMEZONE
TZID:America/Denver
BEGIN:STANDARD
TZNAME:MST
DTSTART:20251102T020000
TZOFFSETFROM:-0600
TZOFFSETTO:-0700
RDATE:20261101T020000
END:STANDARD
BEGIN:DAYLIGHT
TZNAME:MDT
DTSTART:20260308T020000
TZOFFSETFROM:-0700
TZOFFSETTO:-0600
RDATE:20270314T020000
END:DAYLIGHT
END:VTIMEZONE
BEGIN:VEVENT
UID:41553317-2e11-425f-8ce3-25e33002f5b5
DTSTAMP:20260419T121629Z
DESCRIPTION:
DTSTART;TZID=America/Denver:20260415T120000
DTEND;TZID=America/Denver:20260415T130000
LOCATION:https://us02web.zoom.us/j/87379454644
SUMMARY:Hot Topics: Midlife\, Menopause & More
END:VEVENT
END:VCALENDAR
