BEGIN:VCALENDAR
VERSION:2.0
PRODID:-//panhandlepartnership.com//NONSGML kigkonsult.se iCalcreator 2.30.
 10//
CALSCALE:GREGORIAN
METHOD:PUBLISH
UID:a29ed2b0-0e7d-42cd-be79-872a32a91306
X-WR-CALDESC:Zoo passes will be given away at the conference for free admis
 sion on Saturday\, April 11th.
X-WR-RELCALID:c47e505637f45f4241ad1746e7363591
X-WR-TIMEZONE:America/Denver
BEGIN:VTIMEZONE
TZID:America/Denver
BEGIN:STANDARD
TZNAME:MST
DTSTART:20251102T020000
TZOFFSETFROM:-0600
TZOFFSETTO:-0700
RDATE:20261101T020000
END:STANDARD
BEGIN:DAYLIGHT
TZNAME:MDT
DTSTART:20260308T020000
TZOFFSETFROM:-0700
TZOFFSETTO:-0600
RDATE:20270314T020000
END:DAYLIGHT
END:VTIMEZONE
BEGIN:VEVENT
UID:0119d7e6-3c27-434a-b49c-838c4cee34b0
DTSTAMP:20260419T121135Z
DESCRIPTION:Zoo passes will be given away at the conference for free admiss
 ion on Saturday\, April 11th.
DTSTART;TZID=America/Denver:20260409T040000
DTEND;TZID=America/Denver:20260410T040001
LOCATION:Weborg 21 Centre\, 2625 10th Street\, Gering\, NE 69341 US
SUMMARY:Home Grown Solutions: Redefining Rural Housing
END:VEVENT
END:VCALENDAR
