BEGIN:VCALENDAR
VERSION:2.0
PRODID:-//panhandlepartnership.com//NONSGML kigkonsult.se iCalcreator 2.30.
 10//
CALSCALE:GREGORIAN
METHOD:PUBLISH
UID:fade803c-0e50-4024-918f-d03d007e5703
X-WR-CALDESC:Join us via Zoom! \n\nhttps://us02web.zoom.us/j/88172977239
X-WR-RELCALID:f31ead6b47cfb4b5a6c588f20b7fb666
X-WR-TIMEZONE:America/Denver
BEGIN:VTIMEZONE
TZID:America/Denver
BEGIN:STANDARD
TZNAME:MST
DTSTART:20251102T020000
TZOFFSETFROM:-0600
TZOFFSETTO:-0700
RDATE:20261101T020000
END:STANDARD
BEGIN:DAYLIGHT
TZNAME:MDT
DTSTART:20250309T020000
TZOFFSETFROM:-0700
TZOFFSETTO:-0600
RDATE:20260308T020000
RDATE:20270314T020000
END:DAYLIGHT
END:VTIMEZONE
BEGIN:VEVENT
UID:2361ba67-ac4f-4909-a337-4fec95089451
DTSTAMP:20260419T170630Z
DESCRIPTION:Join us via Zoom! \n\nhttps://us02web.zoom.us/j/88172977239
DTSTART;TZID=America/Denver:20260109T090000
DTEND;TZID=America/Denver:20260109T120000
LOCATION:https://us02web.zoom.us/j/88172977239
SUMMARY:Panhandle Partnership Membership Meeting
END:VEVENT
END:VCALENDAR
