BEGIN:VCALENDAR
VERSION:2.0
PRODID:-//panhandlepartnership.com//NONSGML kigkonsult.se iCalcreator 2.30.
 10//
CALSCALE:GREGORIAN
METHOD:PUBLISH
UID:135a895f-3696-48ae-87c8-1235c9c50863
X-WR-CALDESC:
X-WR-RELCALID:c32caeb9aa5914ddfd4c41da5b6514b4
X-WR-TIMEZONE:America/Denver
BEGIN:VTIMEZONE
TZID:America/Denver
BEGIN:STANDARD
TZNAME:MST
DTSTART:20251102T020000
TZOFFSETFROM:-0600
TZOFFSETTO:-0700
RDATE:20261101T020000
END:STANDARD
BEGIN:DAYLIGHT
TZNAME:MDT
DTSTART:20250309T020000
TZOFFSETFROM:-0700
TZOFFSETTO:-0600
RDATE:20260308T020000
RDATE:20270314T020000
END:DAYLIGHT
END:VTIMEZONE
BEGIN:VEVENT
UID:ffb9ee9a-fe1b-4b70-8684-4ca484fb0429
DTSTAMP:20260419T200502Z
DESCRIPTION:
DTSTART;TZID=America/Denver:20251120T100000
DTEND;TZID=America/Denver:20251120T120000
LOCATION:
SUMMARY:Older Youth System of Care
END:VEVENT
END:VCALENDAR
