BEGIN:VCALENDAR
VERSION:2.0
PRODID:-//panhandlepartnership.com//NONSGML kigkonsult.se iCalcreator 2.30.
 10//
CALSCALE:GREGORIAN
METHOD:PUBLISH
UID:0dd0ff83-d142-4f34-a35f-25ddeef311d9
X-WR-CALDESC:
X-WR-RELCALID:cd635419815104362713d2591364c5de
X-WR-TIMEZONE:America/Denver
BEGIN:VTIMEZONE
TZID:America/Denver
BEGIN:STANDARD
TZNAME:MST
DTSTART:20241103T020000
TZOFFSETFROM:-0600
TZOFFSETTO:-0700
RDATE:20251102T020000
RDATE:20261101T020000
END:STANDARD
BEGIN:DAYLIGHT
TZNAME:MDT
DTSTART:20250309T020000
TZOFFSETFROM:-0700
TZOFFSETTO:-0600
RDATE:20260308T020000
RDATE:20270314T020000
END:DAYLIGHT
END:VTIMEZONE
BEGIN:VEVENT
UID:ba9630ba-0646-44a8-add9-de912a87a22c
DTSTAMP:20260419T212559Z
DESCRIPTION:
DTSTART;TZID=America/Denver:20251003T090000
DTEND;TZID=America/Denver:20251003T130000
LOCATION:ESU 13\, 4215 Ave. I \, Scottsbluff\, NE 69361 US
SUMMARY:Panhandle Partnership Membership Meeting
END:VEVENT
END:VCALENDAR
