BEGIN:VCALENDAR
VERSION:2.0
PRODID:-//panhandlepartnership.com//NONSGML kigkonsult.se iCalcreator 2.30.
 10//
CALSCALE:GREGORIAN
METHOD:PUBLISH
UID:505d6e94-01a8-434c-9383-2d3ccebb6f08
X-WR-CALDESC:
X-WR-RELCALID:bcb5f36396d34e99d53e5656ce7a1f71
X-WR-TIMEZONE:America/Denver
BEGIN:VTIMEZONE
TZID:America/Denver
BEGIN:STANDARD
TZNAME:MST
DTSTART:20241103T020000
TZOFFSETFROM:-0600
TZOFFSETTO:-0700
RDATE:20251102T020000
RDATE:20261101T020000
END:STANDARD
BEGIN:DAYLIGHT
TZNAME:MDT
DTSTART:20250309T020000
TZOFFSETFROM:-0700
TZOFFSETTO:-0600
RDATE:20260308T020000
END:DAYLIGHT
END:VTIMEZONE
BEGIN:VEVENT
UID:217fcb20-b65a-4e0a-b164-71ab9c021b6e
DTSTAMP:20260420T023042Z
DESCRIPTION:
DTSTART;TZID=America/Denver:20250711T090000
DTEND;TZID=America/Denver:20250711T130000
LOCATION:Prairie Winds Community Center\, 428 Main Street\, Bridgeport\, NE
  69336 US
SUMMARY:Panhandle Partnership Membership Meeting
END:VEVENT
END:VCALENDAR
