BEGIN:VCALENDAR
VERSION:2.0
PRODID:-//panhandlepartnership.com//NONSGML kigkonsult.se iCalcreator 2.30.
 10//
CALSCALE:GREGORIAN
METHOD:PUBLISH
UID:b70a3562-ab15-4fe2-a9ab-f5dd31f99d0d
X-WR-CALDESC:Please join us for our Membership Meeting. This meeting will b
 e held at ESU-13 on Ave. I in Scottsbluff.\n\nTo register\, complete the f
 orm below.
X-WR-RELCALID:687135e305c7fbc4e862d7c7daffdacd
X-WR-TIMEZONE:America/Denver
BEGIN:VTIMEZONE
TZID:America/Denver
BEGIN:STANDARD
TZNAME:MST
DTSTART:20231105T020000
TZOFFSETFROM:-0600
TZOFFSETTO:-0700
RDATE:20241103T020000
RDATE:20251102T020000
END:STANDARD
BEGIN:DAYLIGHT
TZNAME:MDT
DTSTART:20240310T020000
TZOFFSETFROM:-0700
TZOFFSETTO:-0600
RDATE:20250309T020000
RDATE:20260308T020000
END:DAYLIGHT
END:VTIMEZONE
BEGIN:VEVENT
UID:dd25f3e5-674b-46ae-9ded-c7a4eb6ddcd0
DTSTAMP:20260425T223500Z
DESCRIPTION:Please join us for our Membership Meeting. This meeting will be
  held at ESU-13 on Ave. I in Scottsbluff.\n\nTo register\, complete the fo
 rm below.
DTSTART;TZID=America/Denver:20241004T090000
DTEND;TZID=America/Denver:20241004T130000
LOCATION:ESU-13\, 4215 Ave. I\, Scottsbluffd\, NE 69361 US
SUMMARY:Panhandle Partnership Membership Meeting
END:VEVENT
END:VCALENDAR
