BEGIN:VCALENDAR
VERSION:2.0
PRODID:-//panhandlepartnership.com//NONSGML kigkonsult.se iCalcreator 2.30.
 10//
CALSCALE:GREGORIAN
METHOD:PUBLISH
UID:e212ee54-e48a-4393-bddc-5d34cea20b28
X-WR-CALDESC:
X-WR-RELCALID:ea41c8881abed7d3d690adfd10333559
X-WR-TIMEZONE:America/Denver
BEGIN:VTIMEZONE
TZID:America/Denver
BEGIN:STANDARD
TZNAME:MST
DTSTART:20231105T020000
TZOFFSETFROM:-0600
TZOFFSETTO:-0700
RDATE:20241103T020000
RDATE:20251102T020000
END:STANDARD
BEGIN:DAYLIGHT
TZNAME:MDT
DTSTART:20240310T020000
TZOFFSETFROM:-0700
TZOFFSETTO:-0600
RDATE:20250309T020000
END:DAYLIGHT
END:VTIMEZONE
BEGIN:VEVENT
UID:311f8fed-8c32-4554-a6c5-0fd11a1acd08
DTSTAMP:20260425T204437Z
DESCRIPTION:
DTSTART;TZID=America/Denver:20240905T090000
DTEND;TZID=America/Denver:20240905T110000
LOCATION:https://nalhd.sjc1.qualtrics.com/jfe/form/SV_0evekTL9OAn0JEi
SUMMARY:Wellness Recovery Action Plan (WRAP)
END:VEVENT
END:VCALENDAR
