BEGIN:VCALENDAR
VERSION:2.0
PRODID:-//panhandlepartnership.com//NONSGML kigkonsult.se iCalcreator 2.30.
 10//
CALSCALE:GREGORIAN
METHOD:PUBLISH
UID:794ba801-a1db-470a-b3fe-3d3251efb5c1
X-WR-CALDESC:
X-WR-RELCALID:153f14d3b25eda88f12694ff09ad8288
X-WR-TIMEZONE:America/Denver
BEGIN:VTIMEZONE
TZID:America/Denver
BEGIN:STANDARD
TZNAME:MST
DTSTART:20231105T020000
TZOFFSETFROM:-0600
TZOFFSETTO:-0700
RDATE:20241103T020000
RDATE:20251102T020000
END:STANDARD
BEGIN:DAYLIGHT
TZNAME:MDT
DTSTART:20240310T020000
TZOFFSETFROM:-0700
TZOFFSETTO:-0600
RDATE:20250309T020000
END:DAYLIGHT
END:VTIMEZONE
BEGIN:VEVENT
UID:07d25c11-860a-48ce-8a61-8f9c064c9563
DTSTAMP:20260425T005457Z
DESCRIPTION:
DTSTART;TZID=America/Denver:20240620T040000
DTEND;TZID=America/Denver:20240620T040001
LOCATION:Gering Civic Center\, 1050 M Street\, Gering\, NE 69341 US
SUMMARY:Welcoming Communities
END:VEVENT
END:VCALENDAR
