BEGIN:VCALENDAR
VERSION:2.0
PRODID:-//panhandlepartnership.com//NONSGML kigkonsult.se iCalcreator 2.30.
 10//
CALSCALE:GREGORIAN
METHOD:PUBLISH
UID:374ce46a-be39-4204-9adc-b2a5dcfe3002
X-WR-CALDESC:Bilingualism is a powerful asset that should be fostered and n
 urtured but never exploited within organizations. The Community Interprete
 r training is offered for community members who are fully bilingual/multil
 ingual and are interested in using their skills to dismantle linguistic op
 pression in their communities. The training provides a racial lens for com
 munity interpretation.
X-WR-RELCALID:519d3238bf1c2a2de30d4f6686af8afc
X-WR-TIMEZONE:America/Denver
BEGIN:VTIMEZONE
TZID:America/Denver
BEGIN:STANDARD
TZNAME:MST
DTSTART:20231105T020000
TZOFFSETFROM:-0600
TZOFFSETTO:-0700
RDATE:20241103T020000
RDATE:20251102T020000
END:STANDARD
BEGIN:DAYLIGHT
TZNAME:MDT
DTSTART:20240310T020000
TZOFFSETFROM:-0700
TZOFFSETTO:-0600
RDATE:20250309T020000
END:DAYLIGHT
END:VTIMEZONE
BEGIN:VEVENT
UID:cdd94a3a-0189-401e-9220-b072207b4139
DTSTAMP:20260424T231533Z
DESCRIPTION:Bilingualism is a powerful asset that should be fostered and nu
 rtured but never exploited within organizations. The Community Interpreter
  training is offered for community members who are fully bilingual/multili
 ngual and are interested in using their skills to dismantle linguistic opp
 ression in their communities. The training provides a racial lens for comm
 unity interpretation.
DTSTART;TZID=America/Denver:20240514T090000
DTEND;TZID=America/Denver:20240514T170000
LOCATION:Platte Valley Community Room\, 1106 Platte Valley Dr\, Scottsbluff
 \, NE 69361 US
SUMMARY:Community Interpreter
END:VEVENT
END:VCALENDAR
