BEGIN:VCALENDAR
VERSION:2.0
PRODID:-//panhandlepartnership.com//NONSGML kigkonsult.se iCalcreator 2.30.
 10//
CALSCALE:GREGORIAN
METHOD:PUBLISH
UID:09180e44-c8c9-4fd1-a8c1-f4cd6980b601
X-WR-CALDESC:
X-WR-RELCALID:b3ef7bbe73c66452aacd589cc1e4fd66
X-WR-TIMEZONE:America/Denver
BEGIN:VTIMEZONE
TZID:America/Denver
BEGIN:STANDARD
TZNAME:MST
DTSTART:20231105T020000
TZOFFSETFROM:-0600
TZOFFSETTO:-0700
RDATE:20241103T020000
END:STANDARD
BEGIN:DAYLIGHT
TZNAME:MDT
DTSTART:20240310T020000
TZOFFSETFROM:-0700
TZOFFSETTO:-0600
RDATE:20250309T020000
END:DAYLIGHT
END:VTIMEZONE
BEGIN:VEVENT
UID:8d334588-1144-4bf2-ab02-c2b4c1b71fe6
DTSTAMP:20260424T232918Z
DESCRIPTION:
DTSTART;TZID=America/Denver:20240502T100000
DTEND;TZID=America/Denver:20240502T160000
LOCATION:ESU #13\, 4215 Ave. I\, Scottsbluff\, NE 63961 US
SUMMARY:Motivational Interviewing 1
END:VEVENT
END:VCALENDAR
