BEGIN:VCALENDAR
VERSION:2.0
PRODID:-//panhandlepartnership.com//NONSGML kigkonsult.se iCalcreator 2.30.
 10//
CALSCALE:GREGORIAN
METHOD:PUBLISH
UID:40eb7089-9c96-4185-8f31-d89fe30549d2
X-WR-CALDESC:Please join us for our Membership Meeting. This meeting will b
 e held over Zoom. To register\, complete the form below.
X-WR-RELCALID:9b3fc5c7cebd465f8ff08b9278758c87
X-WR-TIMEZONE:America/Denver
BEGIN:VTIMEZONE
TZID:America/Denver
BEGIN:STANDARD
TZNAME:MST
DTSTART:20231105T020000
TZOFFSETFROM:-0600
TZOFFSETTO:-0700
RDATE:20241103T020000
END:STANDARD
BEGIN:DAYLIGHT
TZNAME:MDT
DTSTART:20230312T020000
TZOFFSETFROM:-0700
TZOFFSETTO:-0600
RDATE:20240310T020000
RDATE:20250309T020000
END:DAYLIGHT
END:VTIMEZONE
BEGIN:VEVENT
UID:c356deb4-70e2-4e52-b13c-37c5fc7e60c7
DTSTAMP:20260424T170436Z
DESCRIPTION:Please join us for our Membership Meeting. This meeting will be
  held over Zoom. To register\, complete the form below.
DTSTART;TZID=America/Denver:20240105T090000
DTEND;TZID=America/Denver:20240105T110000
LOCATION:https://us02web.zoom.us/j/81371277598?pwd=QVk5NUF1Tll1Wm1xZzJZdUdV
 SXZJUT09
SUMMARY:Panhandle Partnership Membership Meeting
END:VEVENT
END:VCALENDAR
