BEGIN:VCALENDAR
VERSION:2.0
PRODID:-//panhandlepartnership.com//NONSGML kigkonsult.se iCalcreator 2.30.
 10//
CALSCALE:GREGORIAN
METHOD:PUBLISH
UID:c9c78679-8729-4fee-a8f5-d3f1666cd826
X-WR-CALDESC:
X-WR-RELCALID:38c57037a7be13e1bf155879a7dcf039
X-WR-TIMEZONE:America/Denver
BEGIN:VTIMEZONE
TZID:America/Denver
BEGIN:STANDARD
TZNAME:MST
DTSTART:20221106T020000
TZOFFSETFROM:-0600
TZOFFSETTO:-0700
RDATE:20231105T020000
RDATE:20241103T020000
END:STANDARD
BEGIN:DAYLIGHT
TZNAME:MDT
DTSTART:20230312T020000
TZOFFSETFROM:-0700
TZOFFSETTO:-0600
RDATE:20240310T020000
RDATE:20250309T020000
END:DAYLIGHT
END:VTIMEZONE
BEGIN:VEVENT
UID:6b558f3e-5185-464c-adfc-57f26e56ce32
DTSTAMP:20260424T220347Z
DESCRIPTION:
DTSTART;TZID=America/Denver:20231006T090000
DTEND;TZID=America/Denver:20231006T130000
LOCATION:
SUMMARY:Annual Meeting
END:VEVENT
END:VCALENDAR
