BEGIN:VCALENDAR
VERSION:2.0
PRODID:-//panhandlepartnership.com//NONSGML kigkonsult.se iCalcreator 2.30.
 10//
CALSCALE:GREGORIAN
METHOD:PUBLISH
UID:cbdd982c-cae9-44a8-9558-b805378c4e03
X-WR-CALDESC:
X-WR-RELCALID:3011421f1286b76a9c3656caf7e90c16
X-WR-TIMEZONE:America/Denver
BEGIN:VTIMEZONE
TZID:America/Denver
BEGIN:STANDARD
TZNAME:MST
DTSTART:20271107T020000
TZOFFSETFROM:-0600
TZOFFSETTO:-0700
RDATE:20281105T020000
RDATE:20291104T020000
END:STANDARD
BEGIN:DAYLIGHT
TZNAME:MDT
DTSTART:20280312T020000
TZOFFSETFROM:-0700
TZOFFSETTO:-0600
RDATE:20290311T020000
END:DAYLIGHT
END:VTIMEZONE
BEGIN:VEVENT
UID:455a01c9-9ebc-46ac-956c-466e8541be1f
DTSTAMP:20260423T084840Z
DESCRIPTION:
DTSTART;TZID=America/Denver:20280518T100000
DTEND;TZID=America/Denver:20280518T120000
LOCATION:
SUMMARY:Older Youth System of Care
END:VEVENT
END:VCALENDAR
