BEGIN:VCALENDAR
VERSION:2.0
PRODID:-//panhandlepartnership.com//NONSGML kigkonsult.se iCalcreator 2.30.
 10//
CALSCALE:GREGORIAN
METHOD:PUBLISH
UID:aae08016-e1db-4e2f-b7ad-cba0c5cfac86
X-WR-CALDESC:
X-WR-RELCALID:8c14ede724c73f6b16d69d267ac20f13
X-WR-TIMEZONE:America/Denver
BEGIN:VTIMEZONE
TZID:America/Denver
BEGIN:STANDARD
TZNAME:MST
DTSTART:20241103T020000
TZOFFSETFROM:-0600
TZOFFSETTO:-0700
RDATE:20251102T020000
RDATE:20261101T020000
END:STANDARD
BEGIN:DAYLIGHT
TZNAME:MDT
DTSTART:20250309T020000
TZOFFSETFROM:-0700
TZOFFSETTO:-0600
RDATE:20260308T020000
END:DAYLIGHT
END:VTIMEZONE
BEGIN:VEVENT
UID:d31f9a0b-d9f5-46e2-92c8-2d147cfe0575
DTSTAMP:20260419T200641Z
DESCRIPTION:
DTSTART;TZID=America/Denver:20250619T080000
DTEND;TZID=America/Denver:20250619T160000
LOCATION:Gering Civic Center\, 1050 M Street\, Gering\, NE 69341 US
SUMMARY:Welcoming Communities Conference
END:VEVENT
END:VCALENDAR
