BEGIN:VCALENDAR
VERSION:2.0
PRODID:-//panhandlepartnership.com//NONSGML kigkonsult.se iCalcreator 2.30.
 10//
CALSCALE:GREGORIAN
METHOD:PUBLISH
UID:99120109-2fd4-4350-813b-ce84e0656fa9
X-WR-CALDESC:Tall Cop trains on various drug and alcohol trends including: 
 vapes\, underage drinking\, synthetic drugs\, marijuana\, drug clothing\, 
 stash compartments and additional topics.\n\nThrough his company\, Tall Co
 p Says Stop™\, he has trained more than 655\,000 people and has conducted 
 more than 8\,400 community scans at various locations.
X-WR-RELCALID:e92c0c5f55f4daa38a877641ce4bd172
X-WR-TIMEZONE:America/Denver
BEGIN:VTIMEZONE
TZID:America/Denver
BEGIN:STANDARD
TZNAME:MST
DTSTART:20241103T020000
TZOFFSETFROM:-0600
TZOFFSETTO:-0700
RDATE:20251102T020000
RDATE:20261101T020000
END:STANDARD
BEGIN:DAYLIGHT
TZNAME:MDT
DTSTART:20250309T020000
TZOFFSETFROM:-0700
TZOFFSETTO:-0600
RDATE:20260308T020000
END:DAYLIGHT
END:VTIMEZONE
BEGIN:VEVENT
UID:9e32607a-f843-447e-873c-46080d41c85f
DTSTAMP:20260419T200635Z
DESCRIPTION:Tall Cop trains on various drug and alcohol trends including: v
 apes\, underage drinking\, synthetic drugs\, marijuana\, drug clothing\, s
 tash compartments and additional topics.\n\nThrough his company\, Tall Cop
  Says Stop™\, he has trained more than 655\,000 people and has conducted m
 ore than 8\,400 community scans at various locations.
DTSTART;TZID=America/Denver:20250610T080000
DTEND;TZID=America/Denver:20250610T160000
LOCATION:2625 10th St\,\, Gering\, NE 69341 US
SUMMARY:Tall Cop - High in Plain Sight: Current Drug Trends
END:VEVENT
END:VCALENDAR
