BEGIN:VCALENDAR
VERSION:2.0
PRODID:-//panhandlepartnership.com//NONSGML kigkonsult.se iCalcreator 2.30.
 10//
CALSCALE:GREGORIAN
METHOD:PUBLISH
UID:e84339f3-6595-4acc-b221-c23bde948284
X-WR-CALDESC:
X-WR-RELCALID:fd64d06f90891b7ef9df83bdad6a9546
X-WR-TIMEZONE:America/Denver
BEGIN:VTIMEZONE
TZID:America/Denver
BEGIN:STANDARD
TZNAME:MST
DTSTART:20241103T020000
TZOFFSETFROM:-0600
TZOFFSETTO:-0700
RDATE:20251102T020000
RDATE:20261101T020000
END:STANDARD
BEGIN:DAYLIGHT
TZNAME:MDT
DTSTART:20250309T020000
TZOFFSETFROM:-0700
TZOFFSETTO:-0600
RDATE:20260308T020000
END:DAYLIGHT
END:VTIMEZONE
BEGIN:VEVENT
UID:4916dc47-233d-4a1c-844b-19dbfb8ec9ca
DTSTAMP:20260419T213054Z
DESCRIPTION:
DTSTART;TZID=America/Denver:20250515T100000
DTEND;TZID=America/Denver:20250515T120000
LOCATION:
SUMMARY:Older Youth System of Care
END:VEVENT
END:VCALENDAR
