BEGIN:VCALENDAR
VERSION:2.0
PRODID:-//panhandlepartnership.com//NONSGML kigkonsult.se iCalcreator 2.30.
 10//
CALSCALE:GREGORIAN
METHOD:PUBLISH
UID:6f657952-d79b-4330-8f62-7b198a82d131
X-WR-CALDESC:This conference is designed for individuals and organizations 
 who work with and on behalf of migrant\, seasonal\, temporary\, or vulnera
 ble agricultural workers and their families. (More information regarding p
 resenters will be given later.)\n\nRegistration closes on April 22\, 2025 
 at 5:00 p.m.
X-WR-RELCALID:a0263d28101a607af5b5d9c8af0936c1
X-WR-TIMEZONE:America/Denver
BEGIN:VTIMEZONE
TZID:America/Denver
BEGIN:STANDARD
TZNAME:MST
DTSTART:20241103T020000
TZOFFSETFROM:-0600
TZOFFSETTO:-0700
RDATE:20251102T020000
END:STANDARD
BEGIN:DAYLIGHT
TZNAME:MDT
DTSTART:20250309T020000
TZOFFSETFROM:-0700
TZOFFSETTO:-0600
RDATE:20260308T020000
END:DAYLIGHT
END:VTIMEZONE
BEGIN:VEVENT
UID:1dfe794e-3bdb-447b-92b4-eb2fa71846a3
DTSTAMP:20260419T225321Z
DESCRIPTION:This conference is designed for individuals and organizations w
 ho work with and on behalf of migrant\, seasonal\, temporary\, or vulnerab
 le agricultural workers and their families. (More information regarding pr
 esenters will be given later.)\n\nRegistration closes on April 22\, 2025 a
 t 5:00 p.m.
DTSTART;TZID=America/Denver:20250430T080000
DTEND;TZID=America/Denver:20250430T160000
LOCATION:Younes Conference Center South\, 416 Talmadge St\, Kearney\, NE 68
 845 US
SUMMARY:2025 Planting Seeds Conference
END:VEVENT
END:VCALENDAR
