BEGIN:VCALENDAR
VERSION:2.0
PRODID:-//panhandlepartnership.com//NONSGML kigkonsult.se iCalcreator 2.30.
 10//
CALSCALE:GREGORIAN
METHOD:PUBLISH
UID:e3ac7a3d-4fa4-4a83-ab0a-845c55150d14
X-WR-CALDESC:Join us for a comprehensive full-day event dedicated to preven
 tion\, covering topics such as Post-Traumatic Stress Disorder\, suicide pr
 evention\, the impact of pornography\, emerging drug use trends\, and stra
 tegies for behavioral health and resilience.
X-WR-RELCALID:08e38b290eb9cb8ab6cbde9cc7da0ac8
X-WR-TIMEZONE:America/Denver
BEGIN:VTIMEZONE
TZID:America/Denver
BEGIN:STANDARD
TZNAME:MST
DTSTART:20241103T020000
TZOFFSETFROM:-0600
TZOFFSETTO:-0700
RDATE:20251102T020000
END:STANDARD
BEGIN:DAYLIGHT
TZNAME:MDT
DTSTART:20250309T020000
TZOFFSETFROM:-0700
TZOFFSETTO:-0600
RDATE:20260308T020000
END:DAYLIGHT
END:VTIMEZONE
BEGIN:VEVENT
UID:cef5e37e-34e2-4d3c-890f-73940f469e0f
DTSTAMP:20260420T002943Z
DESCRIPTION:Join us for a comprehensive full-day event dedicated to prevent
 ion\, covering topics such as Post-Traumatic Stress Disorder\, suicide pre
 vention\, the impact of pornography\, emerging drug use trends\, and strat
 egies for behavioral health and resilience.
DTSTART;TZID=America/Denver:20250322T000000
DTEND;TZID=America/Denver:20250322T160000
LOCATION:Gering Civic Center\, 1050 M Street\, Gering\, NE 69341 US
SUMMARY:Prevention Symposium Building Resilience: Tackling Mental Health an
 d Emerging Behavioral Health Trends
END:VEVENT
END:VCALENDAR
