BEGIN:VCALENDAR
VERSION:2.0
PRODID:-//panhandlepartnership.com//NONSGML kigkonsult.se iCalcreator 2.30.
 10//
CALSCALE:GREGORIAN
METHOD:PUBLISH
UID:8ffbc5c4-41f7-454b-bee8-2c434894d739
X-WR-CALDESC:For additional information please follow the link below or cli
 ck the link under the 'Related Links' section at the bottom of the page.\n
 \nhttps://panhandlepartnership.com/news-events/western-nebraska-early-chil
 dhood-conference.html
X-WR-RELCALID:8a817f3ef712097962c82e8c43d5cebf
X-WR-TIMEZONE:America/Denver
BEGIN:VTIMEZONE
TZID:America/Denver
BEGIN:STANDARD
TZNAME:MST
DTSTART:20241103T020000
TZOFFSETFROM:-0600
TZOFFSETTO:-0700
RDATE:20251102T020000
END:STANDARD
BEGIN:DAYLIGHT
TZNAME:MDT
DTSTART:20240310T020000
TZOFFSETFROM:-0700
TZOFFSETTO:-0600
RDATE:20250309T020000
RDATE:20260308T020000
END:DAYLIGHT
END:VTIMEZONE
BEGIN:VEVENT
UID:aea83ee7-2e43-46ac-9136-381557c41280
DTSTAMP:20260420T021753Z
DESCRIPTION:For additional information please follow the link below or clic
 k the link under the 'Related Links' section at the bottom of the page.\n
 \nhttps://panhandlepartnership.com/news-events/western-nebraska-early-chil
 dhood-conference.html
DTSTART;TZID=America/Denver:20250221T073000
DTEND;TZID=America/Denver:20250222T170000
LOCATION:Chadron State College\, 1000 Main St\, Chadron\, NE 69337 US
SUMMARY:2025 Excellence in Early Childhood Conference
END:VEVENT
END:VCALENDAR
