BEGIN:VCALENDAR
VERSION:2.0
PRODID:-//panhandlepartnership.com//NONSGML kigkonsult.se iCalcreator 2.30.
 10//
CALSCALE:GREGORIAN
METHOD:PUBLISH
UID:1686d8dc-3044-480a-b512-8d5e6541ca01
X-WR-CALDESC:Please join us for our Membership Meeting. This meeting will b
 e held over Zoom. To register\, complete the form below.
X-WR-RELCALID:b695791a2be232a46e90f6ca8e40c173
X-WR-TIMEZONE:America/Denver
BEGIN:VTIMEZONE
TZID:America/Denver
BEGIN:STANDARD
TZNAME:MST
DTSTART:20241103T020000
TZOFFSETFROM:-0600
TZOFFSETTO:-0700
RDATE:20251102T020000
END:STANDARD
BEGIN:DAYLIGHT
TZNAME:MDT
DTSTART:20240310T020000
TZOFFSETFROM:-0700
TZOFFSETTO:-0600
RDATE:20250309T020000
RDATE:20260308T020000
END:DAYLIGHT
END:VTIMEZONE
BEGIN:VEVENT
UID:dae0746b-2337-40f0-b876-d64c125cff8a
DTSTAMP:20260420T035621Z
DESCRIPTION:Please join us for our Membership Meeting. This meeting will be
  held over Zoom. To register\, complete the form below.
DTSTART;TZID=America/Denver:20250103T090000
DTEND;TZID=America/Denver:20250103T110000
LOCATION:https://us02web.zoom.us/j/81371277598?pwd=QVk5NUF1Tll1Wm1xZzJZdUdV
 SXZJUT09
SUMMARY:Panhandle Partnership Membership Meeting
END:VEVENT
END:VCALENDAR
