BEGIN:VCALENDAR
VERSION:2.0
PRODID:-//panhandlepartnership.com//NONSGML kigkonsult.se iCalcreator 2.30.
 10//
CALSCALE:GREGORIAN
METHOD:PUBLISH
UID:8b9c5b36-a83d-4f51-b582-71e3203613cb
X-WR-CALDESC:For additional information please follow the link below or cli
 ck the link under the 'Related Links' section at the bottom of the page.\n
 \nhttps://panhandlepartnership.com/news-events/western-nebraska-early-chil
 dhood-conference.html
X-WR-RELCALID:56ad08534356ecd174a42385c9464136
X-WR-TIMEZONE:America/Denver
BEGIN:VTIMEZONE
TZID:America/Denver
BEGIN:STANDARD
TZNAME:MST
DTSTART:20231105T020000
TZOFFSETFROM:-0600
TZOFFSETTO:-0700
RDATE:20241103T020000
RDATE:20251102T020000
END:STANDARD
BEGIN:DAYLIGHT
TZNAME:MDT
DTSTART:20240310T020000
TZOFFSETFROM:-0700
TZOFFSETTO:-0600
RDATE:20250309T020000
RDATE:20260308T020000
END:DAYLIGHT
END:VTIMEZONE
BEGIN:VEVENT
UID:9365b256-3c3c-4303-843a-05aafd0aa1cc
DTSTAMP:20260422T090810Z
DESCRIPTION:For additional information please follow the link below or clic
 k the link under the 'Related Links' section at the bottom of the page.\n
 \nhttps://panhandlepartnership.com/news-events/western-nebraska-early-chil
 dhood-conference.html
DTSTART;TZID=America/Denver:20241011T080000
DTEND;TZID=America/Denver:20241012T153000
LOCATION:Gering Civic Center\, 1050 M Street\, Gering\, NE 69341 US
SUMMARY:Western Nebraska Early Childhood Conference
END:VEVENT
END:VCALENDAR
