BEGIN:VCALENDAR
VERSION:2.0
PRODID:-//panhandlepartnership.com//NONSGML kigkonsult.se iCalcreator 2.30.
 10//
CALSCALE:GREGORIAN
METHOD:PUBLISH
UID:006fd0f0-cecd-4a2f-92e1-27b2c16645ba
X-WR-CALDESC:Online Only\n\nPlease pre-register by emailing the Olson Cente
 r for Women’s Health at OlsonWHRC@unmc.edu.\nViewing directions will be gi
 ven to registrants prior to the Lunch and Learn presentation.
X-WR-RELCALID:4a98683c64ce4765ac3db6edf31cf413
X-WR-TIMEZONE:America/Denver
BEGIN:VTIMEZONE
TZID:America/Denver
BEGIN:STANDARD
TZNAME:MST
DTSTART:20231105T020000
TZOFFSETFROM:-0600
TZOFFSETTO:-0700
RDATE:20241103T020000
RDATE:20251102T020000
END:STANDARD
BEGIN:DAYLIGHT
TZNAME:MDT
DTSTART:20240310T020000
TZOFFSETFROM:-0700
TZOFFSETTO:-0600
RDATE:20250309T020000
RDATE:20260308T020000
END:DAYLIGHT
END:VTIMEZONE
BEGIN:VEVENT
UID:da58a063-9d3a-43c4-ac32-94fe362a0f54
DTSTAMP:20260422T084742Z
DESCRIPTION:Online Only\n\nPlease pre-register by emailing the Olson Center
  for Women’s Health at OlsonWHRC@unmc.edu.\nViewing directions will be giv
 en to registrants prior to the Lunch and Learn presentation.
DTSTART;TZID=America/Denver:20241011T120000
DTEND;TZID=America/Denver:20241011T130000
LOCATION:
SUMMARY:UNMC Olson Center for Women’s Health and the Panhandle Public Healt
 h District present the Panhandle Lunch and Learn
END:VEVENT
END:VCALENDAR
