BEGIN:VCALENDAR
VERSION:2.0
PRODID:-//panhandlepartnership.com//NONSGML kigkonsult.se iCalcreator 2.30.
 10//
CALSCALE:GREGORIAN
METHOD:PUBLISH
UID:b83a4048-ecb4-439d-b0f0-ef843ada615a
X-WR-CALDESC:
X-WR-RELCALID:4f66306aec23e43c96523e204ac2ae56
X-WR-TIMEZONE:America/Denver
BEGIN:VTIMEZONE
TZID:America/Denver
BEGIN:STANDARD
TZNAME:MST
DTSTART:20231105T020000
TZOFFSETFROM:-0600
TZOFFSETTO:-0700
RDATE:20241103T020000
RDATE:20251102T020000
END:STANDARD
BEGIN:DAYLIGHT
TZNAME:MDT
DTSTART:20240310T020000
TZOFFSETFROM:-0700
TZOFFSETTO:-0600
RDATE:20250309T020000
RDATE:20260308T020000
END:DAYLIGHT
END:VTIMEZONE
BEGIN:VEVENT
UID:b1bb922b-211e-4a77-8992-fc48fadcafe7
DTSTAMP:20260422T101956Z
DESCRIPTION:
DTSTART;TZID=America/Denver:20240925T080000
DTEND;TZID=America/Denver:20240926T160000
LOCATION:ESU #13\, 4215 Ave. I\, Scottsbluff\, NE 69361 US
SUMMARY:Region 1 Behavioral Health Authority Presents: Behavioral Threat As
 sessment
END:VEVENT
END:VCALENDAR
