BEGIN:VCALENDAR
VERSION:2.0
PRODID:-//panhandlepartnership.com//NONSGML kigkonsult.se iCalcreator 2.30.
 10//
CALSCALE:GREGORIAN
METHOD:PUBLISH
UID:7c56ed72-d0dd-42fe-a627-664068bd5380
X-WR-CALDESC:
X-WR-RELCALID:c6834c4c243b3458928fb0d43299130b
X-WR-TIMEZONE:America/Denver
BEGIN:VTIMEZONE
TZID:America/Denver
BEGIN:STANDARD
TZNAME:MST
DTSTART:20231105T020000
TZOFFSETFROM:-0600
TZOFFSETTO:-0700
RDATE:20241103T020000
RDATE:20251102T020000
END:STANDARD
BEGIN:DAYLIGHT
TZNAME:MDT
DTSTART:20240310T020000
TZOFFSETFROM:-0700
TZOFFSETTO:-0600
RDATE:20250309T020000
RDATE:20260308T020000
END:DAYLIGHT
END:VTIMEZONE
BEGIN:VEVENT
UID:1fba6504-9c24-4e4f-9621-f8898dd618b3
DTSTAMP:20260422T104059Z
DESCRIPTION:
DTSTART;TZID=America/Denver:20240910T140000
DTEND;TZID=America/Denver:20240910T160000
LOCATION:https://nalhd.sjc1.qualtrics.com/jfe/form/SV_0evekTL9OAn0JEi
SUMMARY:Wellness Recovery Action Plan (WRAP)
END:VEVENT
END:VCALENDAR
