BEGIN:VCALENDAR
VERSION:2.0
PRODID:-//panhandlepartnership.com//NONSGML kigkonsult.se iCalcreator 2.30.
 10//
CALSCALE:GREGORIAN
METHOD:PUBLISH
UID:a811daa6-3b58-4dc6-802a-c954221a127b
X-WR-CALDESC:
X-WR-RELCALID:9a1fbe6b099e7ed2813e8b3e154b24b3
X-WR-TIMEZONE:America/Denver
BEGIN:VTIMEZONE
TZID:America/Denver
BEGIN:STANDARD
TZNAME:MST
DTSTART:20231105T020000
TZOFFSETFROM:-0600
TZOFFSETTO:-0700
RDATE:20241103T020000
RDATE:20251102T020000
END:STANDARD
BEGIN:DAYLIGHT
TZNAME:MDT
DTSTART:20240310T020000
TZOFFSETFROM:-0700
TZOFFSETTO:-0600
RDATE:20250309T020000
END:DAYLIGHT
END:VTIMEZONE
BEGIN:VEVENT
UID:21ee69a7-2c08-4c27-9fcd-478a7ad13881
DTSTAMP:20260422T133242Z
DESCRIPTION:
DTSTART;TZID=America/Denver:20240712T090000
DTEND;TZID=America/Denver:20240712T130000
LOCATION:Prairie Winds Community Center\, 428 Main Street\, Bridgeport\, NE
  69336 US
SUMMARY:Panhandle Partnership Membership Meeting
END:VEVENT
END:VCALENDAR
