BEGIN:VCALENDAR
VERSION:2.0
PRODID:-//panhandlepartnership.com//NONSGML kigkonsult.se iCalcreator 2.30.
 10//
CALSCALE:GREGORIAN
METHOD:PUBLISH
UID:440a6f7f-7318-4ddc-8b8d-f3cb23be6d3b
X-WR-CALDESC:
X-WR-RELCALID:554f54d17bb0da0c4c320ca0c81eabdd
X-WR-TIMEZONE:America/Denver
BEGIN:VTIMEZONE
TZID:America/Denver
BEGIN:STANDARD
TZNAME:MST
DTSTART:20231105T020000
TZOFFSETFROM:-0600
TZOFFSETTO:-0700
RDATE:20241103T020000
RDATE:20251102T020000
END:STANDARD
BEGIN:DAYLIGHT
TZNAME:MDT
DTSTART:20240310T020000
TZOFFSETFROM:-0700
TZOFFSETTO:-0600
RDATE:20250309T020000
END:DAYLIGHT
END:VTIMEZONE
BEGIN:VEVENT
UID:29be6a86-ad5e-4e5d-a0fa-7548b286f6bd
DTSTAMP:20260422T160502Z
DESCRIPTION:
DTSTART;TZID=America/Denver:20240530T100000
DTEND;TZID=America/Denver:20240531T150000
LOCATION:John N. Harms Center\, 2620 College Park\, Scottsbluff\, NE 63961 
 US
SUMMARY:Motivational Interviewing 2
END:VEVENT
END:VCALENDAR
