BEGIN:VCALENDAR
VERSION:2.0
PRODID:-//panhandlepartnership.com//NONSGML kigkonsult.se iCalcreator 2.30.
 10//
CALSCALE:GREGORIAN
METHOD:PUBLISH
UID:1a2ee8ec-47d3-40a9-bcdb-4e2127af78f1
X-WR-CALDESC:This conference is designed for individuals and organizations 
 who work with and on behalf of migrant\, seasonal\, temporary\, or vulnera
 ble agricultural workers and their families. (More information regarding p
 resenters will be given later.)\n\nRegistration closes on April 12\, 2024 
 at 5:00 p.m.
X-WR-RELCALID:e6cea72b0aec30a981e1eab0d4872bef
X-WR-TIMEZONE:America/Denver
BEGIN:VTIMEZONE
TZID:America/Denver
BEGIN:STANDARD
TZNAME:MST
DTSTART:20231105T020000
TZOFFSETFROM:-0600
TZOFFSETTO:-0700
RDATE:20241103T020000
END:STANDARD
BEGIN:DAYLIGHT
TZNAME:MDT
DTSTART:20240310T020000
TZOFFSETFROM:-0700
TZOFFSETTO:-0600
RDATE:20250309T020000
END:DAYLIGHT
END:VTIMEZONE
BEGIN:VEVENT
UID:2e823c14-c07c-4601-8f39-cd5ca6d3fe8e
DTSTAMP:20260422T161418Z
DESCRIPTION:This conference is designed for individuals and organizations w
 ho work with and on behalf of migrant\, seasonal\, temporary\, or vulnerab
 le agricultural workers and their families. (More information regarding pr
 esenters will be given later.)\n\nRegistration closes on April 12\, 2024 a
 t 5:00 p.m.
DTSTART;TZID=America/Denver:20240501T083000
DTEND;TZID=America/Denver:20240501T170000
LOCATION:Crowne Plaza Kearney\, 707 W Talmadge Rd.\, Kearney\, NE 68845 US
SUMMARY:Planting Seeds Conference 2024
END:VEVENT
END:VCALENDAR
