BEGIN:VCALENDAR
VERSION:2.0
PRODID:-//panhandlepartnership.com//NONSGML kigkonsult.se iCalcreator 2.30.
 10//
CALSCALE:GREGORIAN
METHOD:PUBLISH
UID:fb07c57b-44ee-4594-9482-7c7354442e4c
X-WR-CALDESC:
X-WR-RELCALID:7cf4080c42a8606c7d9546fa7af0697c
X-WR-TIMEZONE:America/Denver
BEGIN:VTIMEZONE
TZID:America/Denver
BEGIN:STANDARD
TZNAME:MST
DTSTART:20231105T020000
TZOFFSETFROM:-0600
TZOFFSETTO:-0700
RDATE:20241103T020000
END:STANDARD
BEGIN:DAYLIGHT
TZNAME:MDT
DTSTART:20240310T020000
TZOFFSETFROM:-0700
TZOFFSETTO:-0600
RDATE:20250309T020000
END:DAYLIGHT
END:VTIMEZONE
BEGIN:VEVENT
UID:e6c34cfc-c16f-4dcf-8af8-d92e4ac932fd
DTSTAMP:20260422T180034Z
DESCRIPTION:
DTSTART;TZID=America/Denver:20240424T040000
DTEND;TZID=America/Denver:20240424T040001
LOCATION:Region 1 Behavioral Health Services\, 4110 Ave. D\, Scottsbluff\, 
 NE 69341 US
SUMMARY:Understanding the First Responder & Veteran
END:VEVENT
END:VCALENDAR
