BEGIN:VCALENDAR
VERSION:2.0
PRODID:-//panhandlepartnership.com//NONSGML kigkonsult.se iCalcreator 2.30.
 10//
CALSCALE:GREGORIAN
METHOD:PUBLISH
UID:738f4ea4-6d27-4326-ac14-26824d073915
X-WR-CALDESC:
X-WR-RELCALID:dec17119c0679831d3fe2483c244c88a
X-WR-TIMEZONE:America/Denver
BEGIN:VTIMEZONE
TZID:America/Denver
BEGIN:STANDARD
TZNAME:MST
DTSTART:20231105T020000
TZOFFSETFROM:-0600
TZOFFSETTO:-0700
RDATE:20241103T020000
END:STANDARD
BEGIN:DAYLIGHT
TZNAME:MDT
DTSTART:20240310T020000
TZOFFSETFROM:-0700
TZOFFSETTO:-0600
RDATE:20250309T020000
END:DAYLIGHT
END:VTIMEZONE
BEGIN:VEVENT
UID:bdc96649-4b12-427a-83db-10651f1c9f6e
DTSTAMP:20260422T175852Z
DESCRIPTION:
DTSTART;TZID=America/Denver:20240405T090000
DTEND;TZID=America/Denver:20240405T130000
LOCATION:Prairie Winds Community Center\,  428 Main Street\, Bridgeport\, N
 E 69336 US
SUMMARY:Panhandle Partnership Membership Meeting
END:VEVENT
END:VCALENDAR
