BEGIN:VCALENDAR
VERSION:2.0
PRODID:-//panhandlepartnership.com//NONSGML kigkonsult.se iCalcreator 2.30.
 10//
CALSCALE:GREGORIAN
METHOD:PUBLISH
UID:5419adfb-fb24-4b64-900f-c8aab0a58dca
X-WR-CALDESC:
X-WR-RELCALID:1b8187df79a2bccb67211a4320a49cea
X-WR-TIMEZONE:America/Denver
BEGIN:VTIMEZONE
TZID:America/Denver
BEGIN:STANDARD
TZNAME:MST
DTSTART:20231105T020000
TZOFFSETFROM:-0600
TZOFFSETTO:-0700
RDATE:20241103T020000
END:STANDARD
BEGIN:DAYLIGHT
TZNAME:MDT
DTSTART:20230312T020000
TZOFFSETFROM:-0700
TZOFFSETTO:-0600
RDATE:20240310T020000
RDATE:20250309T020000
END:DAYLIGHT
END:VTIMEZONE
BEGIN:VEVENT
UID:c52e233f-3a7d-408b-9d2a-e00b6163a73c
DTSTAMP:20260422T223401Z
DESCRIPTION:
DTSTART;TZID=America/Denver:20240130T090000
DTEND;TZID=America/Denver:20240130T153000
LOCATION:Gering Civic Center\, 1050 M Street\, Gering\, NE 69341 US
SUMMARY:2024 Panhandle Planning Workshop
END:VEVENT
END:VCALENDAR
