BEGIN:VCALENDAR
VERSION:2.0
PRODID:-//panhandlepartnership.com//NONSGML kigkonsult.se iCalcreator 2.30.
 10//
CALSCALE:GREGORIAN
METHOD:PUBLISH
UID:285b548c-0ee5-4d96-9713-2a3164224aaa
X-WR-CALDESC:Registration is linked at the bottom.\n\nThis training is valu
 ed at $125 but being offered by Panhandle Partnership for $50.\n\nNonprofi
 t boards need strong skills and a thorough understanding of their role to 
 serve effectively. The purpose of the Board Masters workshop is to provide
  guidance & skills-building opportunities for people who want to be better
  members of nonprofit boards of directors. Board Masters was created for b
 oard members\, nonprofit board veterans and those new to board service. We
  cover the most important aspects of board governance in this interactive\
 , intensive program. At the end of this training\, you will be able to des
 cribe how effective boards function\, tackle the essential tasks of nonpro
 fit board members\, and create a plan of action to address opportunities t
 o improve.\n\nYOU'LL LEARN:\n• What it means to be legally and socially ac
 countable for your organization\n• Principles of sound financial oversight
 \nn The board’s role in fundraising\n• The role of the board as 'employer”
 \nn Board conduct and how to develop a well-rounded\, effective board of d
 irectors\n\nBoard Masters is a four-hour interactive workshop.
X-WR-RELCALID:3374f5eb7cbbbebfdad738444f973cb4
X-WR-TIMEZONE:America/Denver
BEGIN:VTIMEZONE
TZID:America/Denver
BEGIN:STANDARD
TZNAME:MST
DTSTART:20231105T020000
TZOFFSETFROM:-0600
TZOFFSETTO:-0700
RDATE:20241103T020000
END:STANDARD
BEGIN:DAYLIGHT
TZNAME:MDT
DTSTART:20230312T020000
TZOFFSETFROM:-0700
TZOFFSETTO:-0600
RDATE:20240310T020000
RDATE:20250309T020000
END:DAYLIGHT
END:VTIMEZONE
BEGIN:VEVENT
UID:1fc89d70-f82c-4d1a-bff3-6d2968b30c16
DTSTAMP:20260422T223535Z
DESCRIPTION:Registration is linked at the bottom.\n\nThis training is value
 d at $125 but being offered by Panhandle Partnership for $50.\n\nNonprofit
  boards need strong skills and a thorough understanding of their role to s
 erve effectively. The purpose of the Board Masters workshop is to provide 
 guidance & skills-building opportunities for people who want to be better 
 members of nonprofit boards of directors. Board Masters was created for bo
 ard members\, nonprofit board veterans and those new to board service. We 
 cover the most important aspects of board governance in this interactive\,
  intensive program. At the end of this training\, you will be able to desc
 ribe how effective boards function\, tackle the essential tasks of nonprof
 it board members\, and create a plan of action to address opportunities to
  improve.\n\nYOU'LL LEARN:\n• What it means to be legally and socially acc
 ountable for your organization\n• Principles of sound financial oversight
 \nn The board’s role in fundraising\n• The role of the board as 'employer”
 \nn Board conduct and how to develop a well-rounded\, effective board of d
 irectors\n\nBoard Masters is a four-hour interactive workshop.
DTSTART;TZID=America/Denver:20240122T130000
DTEND;TZID=America/Denver:20240122T170000
LOCATION:Gering Civic Center\, 1050 M Street\, Gering\, NE 69341 US
SUMMARY:Board Masters Training
END:VEVENT
END:VCALENDAR
