BEGIN:VCALENDAR
VERSION:2.0
PRODID:-//panhandlepartnership.com//NONSGML kigkonsult.se iCalcreator 2.30.
 10//
CALSCALE:GREGORIAN
METHOD:PUBLISH
UID:dbe0598b-cd59-4504-92e4-b051d7967cfc
X-WR-CALDESC:
X-WR-RELCALID:a716443e51dcb4032630c332cef53b5c
X-WR-TIMEZONE:America/Denver
BEGIN:VTIMEZONE
TZID:America/Denver
BEGIN:STANDARD
TZNAME:MST
DTSTART:20221106T020000
TZOFFSETFROM:-0600
TZOFFSETTO:-0700
RDATE:20231105T020000
RDATE:20241103T020000
END:STANDARD
BEGIN:DAYLIGHT
TZNAME:MDT
DTSTART:20230312T020000
TZOFFSETFROM:-0700
TZOFFSETTO:-0600
RDATE:20240310T020000
RDATE:20250309T020000
END:DAYLIGHT
END:VTIMEZONE
BEGIN:VEVENT
UID:a80fef16-a9ef-432e-b330-a91cfe4901b9
DTSTAMP:20260423T044351Z
DESCRIPTION:
DTSTART;TZID=America/Denver:20230919T140000
DTEND;TZID=America/Denver:20230919T153000
LOCATION:
SUMMARY:Board Meeting
END:VEVENT
END:VCALENDAR
