BEGIN:VCALENDAR
VERSION:2.0
PRODID:-//panhandlepartnership.com//NONSGML kigkonsult.se iCalcreator 2.30.
 10//
CALSCALE:GREGORIAN
METHOD:PUBLISH
UID:ad8f45bf-bf41-4bbb-b29a-12ca63b0cade
X-WR-CALDESC:
X-WR-RELCALID:7275e7f88ef67babc3af2faefb3fc36b
X-WR-TIMEZONE:America/Denver
BEGIN:VTIMEZONE
TZID:America/Denver
BEGIN:STANDARD
TZNAME:MST
DTSTART:20221106T020000
TZOFFSETFROM:-0600
TZOFFSETTO:-0700
RDATE:20231105T020000
RDATE:20241103T020000
END:STANDARD
BEGIN:DAYLIGHT
TZNAME:MDT
DTSTART:20230312T020000
TZOFFSETFROM:-0700
TZOFFSETTO:-0600
RDATE:20240310T020000
RDATE:20250309T020000
END:DAYLIGHT
END:VTIMEZONE
BEGIN:VEVENT
UID:467b8aed-8003-4049-a555-67640a99945c
DTSTAMP:20260423T044017Z
DESCRIPTION:
DTSTART;TZID=America/Denver:20230919T130000
DTEND;TZID=America/Denver:20230919T140000
LOCATION:
SUMMARY:Finance Committee Meeting
END:VEVENT
END:VCALENDAR
