BEGIN:VCALENDAR
VERSION:2.0
PRODID:-//panhandlepartnership.com//NONSGML kigkonsult.se iCalcreator 2.30.
 10//
CALSCALE:GREGORIAN
METHOD:PUBLISH
UID:653199e9-6753-4543-9235-724549bdabc2
X-WR-CALDESC:
X-WR-RELCALID:e57352500c058b598c66d25fa8963776
X-WR-TIMEZONE:America/Denver
BEGIN:VTIMEZONE
TZID:America/Denver
BEGIN:STANDARD
TZNAME:MST
DTSTART:20221106T020000
TZOFFSETFROM:-0600
TZOFFSETTO:-0700
RDATE:20231105T020000
RDATE:20241103T020000
END:STANDARD
BEGIN:DAYLIGHT
TZNAME:MDT
DTSTART:20230312T020000
TZOFFSETFROM:-0700
TZOFFSETTO:-0600
RDATE:20240310T020000
END:DAYLIGHT
END:VTIMEZONE
BEGIN:VEVENT
UID:3206b1eb-9976-493c-bbcc-c405aa6f9af0
DTSTAMP:20260423T092432Z
DESCRIPTION:
DTSTART;TZID=America/Denver:20230622T080000
DTEND;TZID=America/Denver:20230622T150000
LOCATION:Gering Civic Center\, 1050 M Street\, Gering\, NE 69341 US
SUMMARY:Welcoming Communities
END:VEVENT
END:VCALENDAR
