BEGIN:VCALENDAR
VERSION:2.0
PRODID:-//panhandlepartnership.com//NONSGML kigkonsult.se iCalcreator 2.30.
 10//
CALSCALE:GREGORIAN
METHOD:PUBLISH
UID:364f2ce6-45ed-464b-b47e-70e53ce8b8ea
X-WR-CALDESC:
X-WR-RELCALID:7b04aef999a444fddf59502a437ec6e4
X-WR-TIMEZONE:America/Denver
BEGIN:VTIMEZONE
TZID:America/Denver
BEGIN:STANDARD
TZNAME:MST
DTSTART:20221106T020000
TZOFFSETFROM:-0600
TZOFFSETTO:-0700
RDATE:20231105T020000
RDATE:20241103T020000
END:STANDARD
BEGIN:DAYLIGHT
TZNAME:MDT
DTSTART:20230312T020000
TZOFFSETFROM:-0700
TZOFFSETTO:-0600
RDATE:20240310T020000
END:DAYLIGHT
END:VTIMEZONE
BEGIN:VEVENT
UID:6d4b9720-4ee3-4d79-bc9a-e60adc30e251
DTSTAMP:20260423T092406Z
DESCRIPTION:
DTSTART;TZID=America/Denver:20230622T080000
DTEND;TZID=America/Denver:20230622T150000
LOCATION:Gering Civic Center\, 1050 M Street\, Gering\, NE 69341 US
SUMMARY:Welcoming Communities (Copy)
END:VEVENT
END:VCALENDAR
