BEGIN:VCALENDAR
VERSION:2.0
PRODID:-//panhandlepartnership.com//NONSGML kigkonsult.se iCalcreator 2.30.
 10//
CALSCALE:GREGORIAN
METHOD:PUBLISH
UID:6d55d622-3fce-412e-8b08-ce750c26152c
X-WR-CALDESC:
X-WR-RELCALID:016efdfddae23c06806f2e18c0c12b34
X-WR-TIMEZONE:America/Denver
BEGIN:VTIMEZONE
TZID:America/Denver
BEGIN:STANDARD
TZNAME:MST
DTSTART:20221106T020000
TZOFFSETFROM:-0600
TZOFFSETTO:-0700
RDATE:20231105T020000
RDATE:20241103T020000
END:STANDARD
BEGIN:DAYLIGHT
TZNAME:MDT
DTSTART:20230312T020000
TZOFFSETFROM:-0700
TZOFFSETTO:-0600
RDATE:20240310T020000
END:DAYLIGHT
END:VTIMEZONE
BEGIN:VEVENT
UID:66d690be-9ba2-43c0-9a00-04966e6df430
DTSTAMP:20260423T110810Z
DESCRIPTION:
DTSTART;TZID=America/Denver:20230531T090000
DTEND;TZID=America/Denver:20230531T133000
LOCATION:Gering Civic Center\, 1050 M Street\, Gering\, NE 69341 US
SUMMARY:Motivational Interviewing 2
END:VEVENT
END:VCALENDAR
