BEGIN:VCALENDAR
VERSION:2.0
PRODID:-//panhandlepartnership.com//NONSGML kigkonsult.se iCalcreator 2.30.
 10//
CALSCALE:GREGORIAN
METHOD:PUBLISH
UID:d4811978-4d2b-4941-9235-054ce3050675
X-WR-CALDESC:Safe With You is a 4-Hour required license training for childc
 are providers\, preschool staff\, and after school providers. Safe With Yo
 u includes: Safe Sleep\, Abusive Head Trauma\, and Power to Protect.\nThis
  training must be renewed every 5 years.\n\nTo Register\, go to: https://f
 orms.gle/Y7WLSU5xNR2SePLa6\nCost: $20.00 ($5.00/hour)\nAs required by the 
 state\, these sessions must start on time and no late admittance is permit
 ted.\n\nQuestions? Contact Nora Robinson at: nrobinson@esu13.org
X-WR-RELCALID:bcc8ecc8f63d63fa3b2a7bd454e37655
X-WR-TIMEZONE:America/Denver
BEGIN:VTIMEZONE
TZID:America/Denver
BEGIN:STANDARD
TZNAME:MST
DTSTART:20221106T020000
TZOFFSETFROM:-0600
TZOFFSETTO:-0700
RDATE:20231105T020000
RDATE:20241103T020000
END:STANDARD
BEGIN:DAYLIGHT
TZNAME:MDT
DTSTART:20230312T020000
TZOFFSETFROM:-0700
TZOFFSETTO:-0600
RDATE:20240310T020000
END:DAYLIGHT
END:VTIMEZONE
BEGIN:VEVENT
UID:4d4da8c7-8777-41d3-a7d9-5041c24a1162
DTSTAMP:20260423T110133Z
DESCRIPTION:Safe With You is a 4-Hour required license training for childca
 re providers\, preschool staff\, and after school providers. Safe With You
  includes: Safe Sleep\, Abusive Head Trauma\, and Power to Protect.\nThis 
 training must be renewed every 5 years.\n\nTo Register\, go to: https://fo
 rms.gle/Y7WLSU5xNR2SePLa6\nCost: $20.00 ($5.00/hour)\nAs required by the s
 tate\, these sessions must start on time and no late admittance is permitt
 ed.\n\nQuestions? Contact Nora Robinson at: nrobinson@esu13.org
DTSTART;TZID=America/Denver:20230509T170000
DTEND;TZID=America/Denver:20230511T180000
LOCATION:https://forms.gle/Y7WLSU5xNR2SePLa6
SUMMARY:Safe With You
END:VEVENT
END:VCALENDAR
